BEGIN:VCALENDAR
VERSION:2.0
PRODID:-//AgilBee - ECPv6.15.17.1//NONSGML v1.0//EN
CALSCALE:GREGORIAN
METHOD:PUBLISH
X-WR-CALNAME:AgilBee
X-ORIGINAL-URL:https://www.agilbee.com
X-WR-CALDESC:Évènements pour AgilBee
REFRESH-INTERVAL;VALUE=DURATION:PT1H
X-Robots-Tag:noindex
X-PUBLISHED-TTL:PT1H
BEGIN:VTIMEZONE
TZID:Europe/Paris
BEGIN:DAYLIGHT
TZOFFSETFROM:+0100
TZOFFSETTO:+0200
TZNAME:CEST
DTSTART:20240331T010000
END:DAYLIGHT
BEGIN:STANDARD
TZOFFSETFROM:+0200
TZOFFSETTO:+0100
TZNAME:CET
DTSTART:20241027T010000
END:STANDARD
BEGIN:DAYLIGHT
TZOFFSETFROM:+0100
TZOFFSETTO:+0200
TZNAME:CEST
DTSTART:20250330T010000
END:DAYLIGHT
BEGIN:STANDARD
TZOFFSETFROM:+0200
TZOFFSETTO:+0100
TZNAME:CET
DTSTART:20251026T010000
END:STANDARD
BEGIN:DAYLIGHT
TZOFFSETFROM:+0100
TZOFFSETTO:+0200
TZNAME:CEST
DTSTART:20260329T010000
END:DAYLIGHT
BEGIN:STANDARD
TZOFFSETFROM:+0200
TZOFFSETTO:+0100
TZNAME:CET
DTSTART:20261025T010000
END:STANDARD
END:VTIMEZONE
BEGIN:VEVENT
DTSTART;TZID=Europe/Paris:20250313T183000
DTEND;TZID=Europe/Paris:20250313T200000
DTSTAMP:20260424T102827
CREATED:20250217T184317Z
LAST-MODIFIED:20250313T184320Z
UID:55869-1741890600-1741896000@www.agilbee.com
SUMMARY:Mieux se comprendre pour mieux communiquer
DESCRIPTION:Venez apprendre à mieux comprendre les autres pour communiquer plus efficacement lors de notre événement!\n\n\nMieux se comprendre pour mieux communiquer \nPourquoi est-ce si difficile de se faire comprendre ? \nVous êtes en pleine discussion avec un collègue.Vous lui expliquez un point important\, avec des arguments clairs.Il hoche la tête\, vous pensez qu’il a compris.Mais quelques jours plus tard\, vous réalisez qu’il a interprété votre message… totalement différemment.Vous reformulez\, tentez une autre approche.Pourtant\, rien n’y fait.C’est comme si vous parliez deux langues différentes.Et c’est là tout le paradoxe : nous avons l’impression de parler la même langue\, mais nous n’entendons pas toujours le même message.Cette incompréhension peut sembler anodine.Mais à l’échelle d’une équipe ou d’une organisation\, elle peut être source de malentendus\, de tensions et de décisions mal alignées.Combien de projets ralentis\, de réunions qui tournent en rond ou de conflits auraient pu être évités avec une communication plus adaptée ? \nC’est justement pour explorer cette question qu’Agilbee vous propose un atelier inédit\, animé par Arnaud Lamouller.Arnaud accompagne depuis des années des entreprises confrontées à ces défis. Coach professionnel\, facilitateur du changement\, il a appris à repérer les signaux faibles\, à ajuster les interactions et à transformer les incompréhensions en leviers de collaboration. \nAu programme : expérimenter en direct ces situations de mécommunication et comprendre comment les éviter.Vous découvrirez comment ajuster votre discours\, décrypter les réactions des autres et surtout\, faire en sorte que votre message soit entendu comme vous l’aviez imaginé. \nRepartez avec des clés concrètes pour fluidifier votre communication.
URL:https://www.agilbee.com/evenement/mieux-se-comprendre-pour-mieux-communiquer/
LOCATION:AgilBee\, 29 rue Viala\, 75015 Paris\, Paris\, 75015\, FR
CATEGORIES:Agile Dojo®
ATTACH;FMTTYPE=image/jpeg:https://www.agilbee.com/wp-content/uploads/55869_image_original.jpg
END:VEVENT
END:VCALENDAR
<!-- H1-FIX: pattern-not-found -->
